Workbook

Sheet Input
A4: Input LFM Pin No in D4 | D4: RG199
A5: & press return.
D6: =VLOOKUP($D$4,PINS!$A$5:$C$146,2,FALSE) -> EA117 | E6: =VLOOKUP($D$4,PINS!$A$5:$C$146,3,FALSE) -> Trowbridge Primary | G6: =+Report!R5 -> Trowbridge Primary

Sheet Report
A1: =+Input!D6 -> EA117 | C1: Put cost centre in here
E2: Balances | F2: =+Q133-Q142 -> -0.0049999981 | G2: Actual | H2: Formula | I2: Governors | O2: CARDIFF COUNCIL/GYNGOR CAERDYDD | V2: 1
E3: Exp | F3: =+U110-R110 -> 0 | O3: SCHOOLS OUTTURN OF EXPENDITURE/CANLYNIAD GWARIANT YSGOLION 2023-2024
B4: Actuals | C4: Budgets | D4: Gvnrs
O5: Governing Body/Corff Llywodraethu of: | R5: =VLOOKUP($A$1,Data!$A$7:$B$135,2) -> Trowbridge Primary
B6: 3 | C6: 63 | D6: 115 | E6: 1 | F6: Teaching Costs | G6: =VLOOKUP($A$1,Data!$A$7:$GD$135,B6) -> 580350.16 | H6: =VLOOKUP($A$1,Data!$A$7:$GD$135,C6) -> 0 | I6: =VLOOKUP($A$1,Data!$A$7:$GD$135,D6) -> 579412
B7: 4 | C7: 64 | D7: 116 | E7: 2 | F7: Special Needs Teachers | G7: =VLOOKUP($A$1,Data!$A$7:$GD$135,B7) -> 0 | H7: =VLOOKUP($A$1,Data!$A$7:$GD$135,C7) -> 0 | I7: =VLOOKUP($A$1,Data!$A$7:$GD$135,D7) -> 0
B8: 5 | C8: 65 | D8: 117 | E8: 3 | F8: Teachers for statemented pupils | G8: =VLOOKUP($A$1,Data!$A$7:$GD$135,B8) -> 0 | H8: =VLOOKUP($A$1,Data!$A$7:$GD$135,C8) -> 0 | I8: =VLOOKUP($A$1,Data!$A$7:$GD$135,D8) -> 0 | Q8: Governor Approved Budget/Cyllideb a Gymeradwywyd gan y Llywodraethwyr | T8: Actual Expenditure/ Gwariant Cyflawnedig
B9: 6 | C9: 66 | D9: 118 | E9: 4 | F9: Short Term Supply | G9: =VLOOKUP($A$1,Data!$A$7:$GD$135,B9) -> 0 | H9: =VLOOKUP($A$1,Data!$A$7:$GD$135,C9) -> 0 | I9: =VLOOKUP($A$1,Data!$A$7:$GD$135,D9) -> 0 | Q9: £ | R9: £ | T9: £ | U9: £
B10: 7 | C10: 67 | D10: 119 | E10: 5 | F10: Long Term Supply | G10: =VLOOKUP($A$1,Data!$A$7:$GD$135,B10) -> 20091.43 | H10: =VLOOKUP($A$1,Data!$A$7:$GD$135,C10) -> 0 | I10: =VLOOKUP($A$1,Data!$A$7:$GD$135,D10) -> 18354 | O10: Staffing costs/Costau Staff
B11: 8 | C11: 68 | D11: 120 | E11: 6 | F11: Special Needs Support Staff | G11: =VLOOKUP($A$1,Data!$A$7:$GD$135,B11) -> 0 | H11: =VLOOKUP($A$1,Data!$A$7:$GD$135,C11) -> 0 | I11: =VLOOKUP($A$1,Data!$A$7:$GD$135,D11) -> 0 | O11: Teaching Costs/Costau Addysgu | Q11: =I6 -> 579412 | T11: =G6 -> 580350.16
B12: 9 | C12: 69 | D12: 121 | E12: 7 | F12: Nursery Assts/ Teachers Aides / Adult Helpers | G12: =VLOOKUP($A$1,Data!$A$7:$GD$135,B12) -> 110374.68 | H12: =VLOOKUP($A$1,Data!$A$7:$GD$135,C12) -> 0 | I12: =VLOOKUP($A$1,Data!$A$7:$GD$135,D12) -> 110413 | O12: Special Needs Teachers/Athrawon Anghenion Arbennig | Q12: =I7 -> 0 | T12: =G7 -> 0
B13: 10 | C13: 70 | D13: 122 | E13: 8 | F13: Foreign Language Assistants | G13: =VLOOKUP($A$1,Data!$A$7:$GD$135,B13) -> 0 | H13: =VLOOKUP($A$1,Data!$A$7:$GD$135,C13) -> 0 | I13: =VLOOKUP($A$1,Data!$A$7:$GD$135,D13) -> 0 | O13: Teachers for statemented pupils/Athrawon ar gyfer disgyblion sy'n destun datganiad | Q13: =I8 -> 0 | T13: =G8 -> 0
B14: 11 | C14: 71 | D14: 123 | E14: 9 | F14: Technicians | G14: =VLOOKUP($A$1,Data!$A$7:$GD$135,B14) -> 0 | H14: =VLOOKUP($A$1,Data!$A$7:$GD$135,C14) -> 0 | I14: =VLOOKUP($A$1,Data!$A$7:$GD$135,D14) -> 0 | O14: Short Term Supply/Llanw Byr Dymor | Q14: =I9 -> 0 | T14: =G9 -> 0
B15: 12 | C15: 72 | D15: 124 | E15: 10 | F15: Mid Day Supervisors | G15: =VLOOKUP($A$1,Data!$A$7:$GD$135,B15) -> 10384.95 | H15: =VLOOKUP($A$1,Data!$A$7:$GD$135,C15) -> 0 | I15: =VLOOKUP($A$1,Data!$A$7:$GD$135,D15) -> 10251 | O15: Long Term Supply/Llanw Hir Dymor | Q15: =I10 -> 18354 | T15: =G10 -> 20091.43
B16: 13 | C16: 73 | D16: 125 | E16: 11 | F16: Library Staff | G16: =VLOOKUP($A$1,Data!$A$7:$GD$135,B16) -> 0 | H16: =VLOOKUP($A$1,Data!$A$7:$GD$135,C16) -> 0 | I16: =VLOOKUP($A$1,Data!$A$7:$GD$135,D16) -> 0 | O16: Special Needs Support Staff/Staff Cymorth Anghenion Arbennig | Q16: =I11 -> 0 | T16: =G11 -> 0
B17: 14 | C17: 74 | D17: 126 | E17: 12 | F17: Administrative Staff | G17: =VLOOKUP($A$1,Data!$A$7:$GD$135,B17) -> 36833.98 | H17: =VLOOKUP($A$1,Data!$A$7:$GD$135,C17) -> 0 | I17: =VLOOKUP($A$1,Data!$A$7:$GD$135,D17) -> 36324 | O17: Nursery Assts/ Teachers Aides / Adult Helpers/Cynorthwywyr Meithrinfa/ Cymhorthion Athrawon / Cynorthwywyr | Q17: =I12 -> 110413 | T17: =G12 -> 110374.68
B18: 15 | C18: 75 | D18: 127 | E18: 13 | F18: Non teaching supply costs | G18: =VLOOKUP($A$1,Data!$A$7:$GD$135,B18) -> 0 | H18: =VLOOKUP($A$1,Data!$A$7:$GD$135,C18) -> 0 | I18: =VLOOKUP($A$1,Data!$A$7:$GD$135,D18) -> 0 | O18: Foreign Language Assistants/Cynorthwywyr Ieithoedd Tramor | Q18: =I13 -> 0 | T18: =G13 -> 0
B19: 16 | C19: 76 | D19: 128 | E19: 14 | F19: Training Costs | G19: =VLOOKUP($A$1,Data!$A$7:$GD$135,B19) -> 66574.16 | H19: =VLOOKUP($A$1,Data!$A$7:$GD$135,C19) -> 0 | I19: =VLOOKUP($A$1,Data!$A$7:$GD$135,D19) -> 67360 | O19: Technicians/Technegwyr | Q19: =I14 -> 0 | T19: =G14 -> 0
B20: 17 | C20: 77 | D20: 129 | E20: 15 | F20: Other Staff Costs | G20: =VLOOKUP($A$1,Data!$A$7:$GD$135,B20) -> 84207.11 | H20: =VLOOKUP($A$1,Data!$A$7:$GD$135,C20) -> 0 | I20: =VLOOKUP($A$1,Data!$A$7:$GD$135,D20) -> 115488 | O20: Mid Day Supervisors/Gorychwylwyr Canol Dydd | Q20: =I15 -> 10251 | T20: =G15 -> 10384.95
B21: 18 | C21: 78 | D21: 130 | E21: 15.5 | F21: Performance Management | G21: =VLOOKUP($A$1,Data!$A$7:$GD$135,B21) -> 0 | H21: =VLOOKUP($A$1,Data!$A$7:$GD$135,C21) -> 0 | I21: =VLOOKUP($A$1,Data!$A$7:$GD$135,D21) -> 0 | O21: Library Staff / Attend Officer/Staff Llyfrgell / Swyddog Presenoldeb | Q21: =I16 -> 0 | T21: =G16 -> 0
B22: 19 | C22: 79 | D22: 131 | E22: 16 | F22: Caretaking Staff | G22: =VLOOKUP($A$1,Data!$A$7:$GD$135,B22) -> 25701.54 | H22: =VLOOKUP($A$1,Data!$A$7:$GD$135,C22) -> 0 | I22: =VLOOKUP($A$1,Data!$A$7:$GD$135,D22) -> 23986 | O22: Administrative Staff/Staff Gweinyddol | Q22: =+I17 -> 36324 | T22: =+G17 -> 36833.98
B23: 20 | C23: 80 | D23: 132 | E23: 17 | F23: Domestic Staff | G23: =VLOOKUP($A$1,Data!$A$7:$GD$135,B23) -> 9597.02 | H23: =VLOOKUP($A$1,Data!$A$7:$GD$135,C23) -> 0 | I23: =VLOOKUP($A$1,Data!$A$7:$GD$135,D23) -> 9415 | O23: Non teaching supply costs/Costau llanw staff heb fod yn athrawon | Q23: =I18 -> 0 | T23: =G18 -> 0
B24: 21 | C24: 81 | D24: 133 | E24: 18 | F24: Grounds Staff | G24: =VLOOKUP($A$1,Data!$A$7:$GD$135,B24) -> 510 | H24: =VLOOKUP($A$1,Data!$A$7:$GD$135,C24) -> 0 | I24: =VLOOKUP($A$1,Data!$A$7:$GD$135,D24) -> 515 | O24: Training Costs/Costau hyfforddi | Q24: =I19 -> 67360 | T24: =G19 -> 66574.16
B25: 22 | C25: 82 | D25: 134 | E25: 19 | F25: Cleaning Costs | G25: =VLOOKUP($A$1,Data!$A$7:$GD$135,B25) -> 27529.13 | H25: =VLOOKUP($A$1,Data!$A$7:$GD$135,C25) -> 0 | I25: =VLOOKUP($A$1,Data!$A$7:$GD$135,D25) -> 28342 | O25: Other Staff Costs/Costau staff eraill | Q25: =I20 -> 115488 | T25: =G20 -> 84207.11
B26: 23 | C26: 83 | D26: 135 | E26: 20 | F26: Energy Costs | G26: =VLOOKUP($A$1,Data!$A$7:$GD$135,B26) -> 28097.78 | H26: =VLOOKUP($A$1,Data!$A$7:$GD$135,C26) -> 0 | I26: =VLOOKUP($A$1,Data!$A$7:$GD$135,D26) -> 33652 | O26: Performance Management/Rheoli Perfformiad | Q26: =I21 -> 0 | T26: =G21 -> 0
B27: 24 | C27: 84 | D27: 136 | E27: 21 | F27: Rates | G27: =VLOOKUP($A$1,Data!$A$7:$GD$135,B27) -> 20062.5 | H27: =VLOOKUP($A$1,Data!$A$7:$GD$135,C27) -> 20062.5 | I27: =VLOOKUP($A$1,Data!$A$7:$GD$135,D27) -> 20062.5
B28: 26 | C28: 85 | D28: 138 | E28: 22 | F28: Water | G28: =VLOOKUP($A$1,Data!$A$7:$GD$135,B28) -> 2204.22 | H28: =VLOOKUP($A$1,Data!$A$7:$GD$135,C28) -> 0 | I28: =VLOOKUP($A$1,Data!$A$7:$GD$135,D28) -> 2680 | O28: Total Staffing Costs/Cyfanswm Costau Staff | R28: =SUM(Q11:Q26) -> 937602 | U28: =SUM(T11:T26) -> 908816.47
B29: 25 | C29: 86 | D29: 137 | E29: 23 | F29: Reapirs and Maintenance | G29: =VLOOKUP($A$1,Data!$A$7:$GD$135,B29) -> 15839.75 | H29: =VLOOKUP($A$1,Data!$A$7:$GD$135,C29) -> 0 | I29: =VLOOKUP($A$1,Data!$A$7:$GD$135,D29) -> 10184
B30: 27 | C30: 87 | D30: 139 | E30: 25 | F30: Pupil Transport Costs | G30: =VLOOKUP($A$1,Data!$A$7:$GD$135,B30) -> 557.63 | H30: =VLOOKUP($A$1,Data!$A$7:$GD$135,C30) -> 0 | I30: =VLOOKUP($A$1,Data!$A$7:$GD$135,D30) -> 0
B31: 28 | C31: 88 | D31: 140 | E31: 26 | F31: Staff Transport Costs | G31: =VLOOKUP($A$1,Data!$A$7:$GD$135,B31) -> 0 | H31: =VLOOKUP($A$1,Data!$A$7:$GD$135,C31) -> 0 | I31: =VLOOKUP($A$1,Data!$A$7:$GD$135,D31) -> 0 | O31: Premises Related Costs/Costau Eiddo
B32: 29 | C32: 89 | D32: 141 | E32: 27 | F32: Vehichle Costs | G32: =VLOOKUP($A$1,Data!$A$7:$GD$135,B32) -> 256.71 | H32: =VLOOKUP($A$1,Data!$A$7:$GD$135,C32) -> 0 | I32: =VLOOKUP($A$1,Data!$A$7:$GD$135,D32) -> 500 | O32: Caretaking Staff/Staff Gofalwyr | Q32: =+I22 -> 23986 | T32: =+G22 -> 25701.54
B33: 30 | C33: 90 | D33: 142 | E33: 29 | F33: Teaching Materials | G33: =VLOOKUP($A$1,Data!$A$7:$GD$135,B33) -> 9327.58 | H33: =VLOOKUP($A$1,Data!$A$7:$GD$135,C33) -> 0 | I33: =VLOOKUP($A$1,Data!$A$7:$GD$135,D33) -> 15000 | O33: Domestic Staff/Staff Domestig | Q33: =I23 -> 9415 | T33: =+G23 -> 9597.02
B34: 31 | C34: 91 | D34: 143 | E34: 30 | F34: Equipment Furniture & Materials | G34: =VLOOKUP($A$1,Data!$A$7:$GD$135,B34) -> 4629.75 | H34: =VLOOKUP($A$1,Data!$A$7:$GD$135,C34) -> 0 | I34: =VLOOKUP($A$1,Data!$A$7:$GD$135,D34) -> 3670 | O34: Grounds Staff/Staff y Tir | Q34: =I24 -> 515 | T34: =+G24 -> 510
B35: 32 | C35: 92 | D35: 144 | E35: 31 | F35: Library Books & Materials | G35: =VLOOKUP($A$1,Data!$A$7:$GD$135,B35) -> 0 | H35: =VLOOKUP($A$1,Data!$A$7:$GD$135,C35) -> 0 | I35: =VLOOKUP($A$1,Data!$A$7:$GD$135,D35) -> 0 | O35: Cleaning Costs/Costau Glanhau | Q35: =I25 -> 28342 | T35: =+G25 -> 27529.13
B36: 33 | C36: 93 | D36: 145 | E36: 32 | F36: Catering Costs | G36: =VLOOKUP($A$1,Data!$A$7:$GD$135,B36) -> 1323.18 | H36: =VLOOKUP($A$1,Data!$A$7:$GD$135,C36) -> 0 | I36: =VLOOKUP($A$1,Data!$A$7:$GD$135,D36) -> 1020 | O36: Energy Costs/Costau Ynni | Q36: =I26 -> 33652 | T36: =+G26 -> 28097.78
B37: 34 | C37: 94 | D37: 146 | E37: 33 | F37: Savings to be found | G37: =VLOOKUP($A$1,Data!$A$7:$GD$135,B37) -> 0 | H37: =VLOOKUP($A$1,Data!$A$7:$GD$135,C37) -> 788947.5 | I37: =VLOOKUP($A$1,Data!$A$7:$GD$135,D37) -> 1155.625 | O37: Rates/Cyfraddau | Q37: =I27 -> 20062.5 | T37: =+G27 -> 20062.5
B38: 35 | C38: 95 | D38: 147 | E38: 34 | F38: Communications Equipment and Services | G38: =VLOOKUP($A$1,Data!$A$7:$GD$135,B38) -> 4349.56 | H38: =VLOOKUP($A$1,Data!$A$7:$GD$135,C38) -> 0 | I38: =VLOOKUP($A$1,Data!$A$7:$GD$135,D38) -> 5887 | O38: Repairs and Maintenance/Atgyweiriau a Chynhaliaeth | Q38: =I29 -> 10184 | T38: =+G29 -> 15839.75
B39: 36 | C39: 96 | D39: 148 | E39: 35 | F39: Consultants Fees | G39: =VLOOKUP($A$1,Data!$A$7:$GD$135,B39) -> 0 | H39: =VLOOKUP($A$1,Data!$A$7:$GD$135,C39) -> 0 | I39: =VLOOKUP($A$1,Data!$A$7:$GD$135,D39) -> 0 | O39: Water/Dŵr | Q39: =I28 -> 2680 | T39: =+G28 -> 2204.22
B40: 37 | C40: 97 | D40: 149 | E40: 36 | F40: Examinations Fees | G40: =VLOOKUP($A$1,Data!$A$7:$GD$135,B40) -> 0 | H40: =VLOOKUP($A$1,Data!$A$7:$GD$135,C40) -> 0 | I40: =VLOOKUP($A$1,Data!$A$7:$GD$135,D40) -> 0
...

Sheet Sheet1

Sheet Eng Abridged
A2: CITY AND COUNTY OF CARDIFF COUNCIL
A3: SCHOOLS OUTTURN OF EXPENDITURE 2008-2009
B5: Governing Body of | C5: =+Report!Q5 -> 0
C8: Governor Approved Budget | F8: Actual Expenditure
C9: £ | D9: £ | F9: £ | G9: £
A10: Staffing costs
A11: Teaching Costs | C11: =+Report!Q11+Report!Q12+Report!Q13+Report!Q14+Report!Q15 -> 597766 | F11: =+Report!T11+Report!T12+Report!T13+Report!T14+Report!T15 -> 600441.59
A12: Non Teaching Costs | C12: =+Report!Q16+Report!Q17+Report!Q18+Report!Q19+Report!Q20+Report!Q21+Report!Q22+Report!Q23+Report!Q32 -> 180974 | F12: =+Report!T16+Report!T17+Report!T18+Report!T19+Report!T20+Report!T21+Report!T22+Report!T23+Report!T32 -> 183295.15
A13: Other Staff Costs | C13: =+Report!Q24+Report!Q25+Report!Q26 -> 182848 | F13: =+Report!T24+Report!T25+Report!T26 -> 150781.27
A15: Total Staffing Costs | D15: =SUM(C11:C13) -> 961588 | G15: =SUM(F11:F13) -> 934518.01
A18: Premises Related Costs
A19: Caretaking Staff | C19: 0 | F19: 0
A20: Domestic Staff | C20: =+Report!Q33 -> 9415 | F20: =+Report!T33 -> 9597.02
A21: Grounds Staff | C21: =+Report!Q34 -> 515 | F21: =+Report!T34 -> 510
A22: Cleaning Costs | C22: =+Report!Q35 -> 28342 | F22: =+Report!T35 -> 27529.13
A23: Energy Costs | C23: =+Report!Q36 -> 33652 | F23: =+Report!T36 -> 28097.78
A24: Rates | C24: =+Report!Q37 -> 20062.5 | F24: =+Report!T37 -> 20062.5
A25: Repairs and Maintenance | C25: =+Report!Q38 -> 10184 | F25: =+Report!T38 -> 15839.75
A26: Water | C26: =+Report!Q39 -> 2680 | F26: =+Report!T39 -> 2204.22
A28: Total Premises Related Costs | D28: =SUM(C19:C26) -> 104850.5 | G28: =SUM(F19:F26) -> 103840.4
A31: Transport Costs
A32: Pupil Transport Costs | C32: =+Report!Q45 -> 0 | F32: =+Report!T45 -> 557.63
A33: Staff Transport Costs | C33: =+Report!Q46 -> 0 | F33: =+Report!T46 -> 0
A34: Vehichle Costs | C34: =+Report!Q47 -> 500 | F34: =+Report!T47 -> 256.71
A36: Total Transport Costs | D36: =SUM(C32:C34) -> 500 | G36: =SUM(F32:F34) -> 814.34
A39: Supplies and Services
A40: Teaching Materials | C40: =+Report!Q53 -> 15000 | F40: =+Report!T53 -> 9327.58
A41: Equipment, Furniture, Materials & music tuition | C41: =+Report!Q54 -> 3670 | F41: =+Report!T54 -> 4629.75
A42: Library Books & Materials | C42: =+Report!Q55 -> 0 | F42: =+Report!T55 -> 0
A43: Catering Costs | C43: =+Report!Q56 -> 1020 | F43: =+Report!T56 -> 1323.18
A44: Unallocated / Savings to be found | C44: =+Report!Q57 -> 1155.625 | F44: =+Report!T57 -> 0
A45: Communications Equipment and Services | C45: =+Report!Q58 -> 5887 | F45: =+Report!T58 -> 4349.56
A46: Consultants Fees | C46: =+Report!Q59 -> 0 | F46: =+Report!T59 -> 0
A47: Examinations Fees | C47: =+Report!Q60 -> 0 | F47: =+Report!T60 -> 0
A48: Games & School Activities | C48: =+Report!Q61 -> 2800 | F48: =+Report!T61 -> 870
A49: Clerk to Governing Body | C49: =+Report!Q62 -> 900 | F49: =+Report!T62 -> 812.59
A50: Other office costs | C50: =+Report!Q63 -> 4171 | F50: =+Report!T63 -> 4036.5
A51: Printing & Stationery | C51: =+Report!Q64 -> 5750 | F51: =+Report!T64 -> 4264.52
... A53: Subsistence and expenses | C53: =+Report!Q66 -> 0 | F53: =+Report!T66 -> 65
A55: Total Supplies and Services | D55: =SUM(C40:C53) -> 40353.625 | G55: =SUM(F40:F53) -> 29678.68
...

Sheet Eng Devolved
A2: CITY AND COUNTY OF CARDIFF COUNCIL
A3: SCHOOLS OUTTURN OF EXPENDITURE 2008-2009
B5: Governing Body of | C5: =+Report!Q5 -> 0
C8: Governor Approved Budget | F8: Actual Expenditure
C9: £ | D9: £ | F9: £ | G9: £
A10: Staffing costs
A11: Teaching Costs | C11: =+Report!Q11 -> 579412 | F11: =+Report!T11 -> 580350.16
A12: Special Needs Teachers | C12: =+Report!Q12 -> 0 | F12: =+Report!T12 -> 0
A13: Teachers for statemented pupils | C13: =+Report!Q13 -> 0 | F13: =+Report!T13 -> 0
A14: Short Term Supply | C14: =+Report!Q14 -> 0 | F14: =+Report!T14 -> 0
A15: Long Term Supply | C15: =+Report!Q15 -> 18354 | F15: =+Report!T15 -> 20091.43
A16: Special Needs Support Staff | C16: =+Report!Q16 -> 0 | F16: =+Report!T16 -> 0
A17: Nursery Assts/ Teachers Aides / Adult Helpers | C17: =+Report!Q17 -> 110413 | F17: =+Report!T17 -> 110374.68
A18: Foreign Language Assistants | C18: =+Report!Q18 -> 0 | F18: =+Report!T18 -> 0
A19: Technicians | C19: =+Report!Q19 -> 0 | F19: =+Report!T19 -> 0
A20: Mid Day Supervisors | C20: =+Report!Q20 -> 10251 | F20: =+Report!T20 -> 10384.95
A21: Library Staff | C21: =+Report!Q21 -> 0 | F21: =+Report!T21 -> 0
A22: Administrative Staff | C22: =+Report!Q22 -> 36324 | F22: =+Report!T22 -> 36833.98
... A26: Performance Management | C26: =+Report!Q26 -> 0 | F26: =+Report!T26 -> 0
A28: Total Staffing Costs | D28: =SUM(C11:C26) -> 937602 | G28: =SUM(F11:F26) -> 908816.47
A31: Premises Related Costs
A32: Caretaking Staff | C32: =+Report!Q32 -> 23986 | F32: =+Report!T32 -> 25701.54
A33: Domestic Staff | C33: =+Report!Q33 -> 9415 | F33: =+Report!T33 -> 9597.02
A34: Grounds Staff | C34: =+Report!Q34 -> 515 | F34: =+Report!T34 -> 510
A35: Cleaning Costs | C35: =+Report!Q35 -> 28342 | F35: =+Report!T35 -> 27529.13
A36: Energy Costs | C36: =+Report!Q36 -> 33652 | F36: =+Report!T36 -> 28097.78
A37: Rates | C37: =+Report!Q37 -> 20062.5 | F37: =+Report!T37 -> 20062.5
A38: Repairs and Maintenance | C38: =+Report!Q38 -> 10184 | F38: =+Report!T38 -> 15839.75
A39: Water | C39: =+Report!Q39 -> 2680 | F39: =+Report!T39 -> 2204.22
A41: Total Premises Related Costs | D41: =SUM(C32:C39) -> 128836.5 | G41: =SUM(F32:F39) -> 129541.94
A44: Transport Costs
A45: Pupil Transport Costs | C45: =+Report!Q45 -> 0 | F45: =+Report!T45 -> 557.63
A46: Staff Transport Costs | C46: =+Report!Q46 -> 0 | F46: =+Report!T46 -> 0
A47: Vehichle Costs | C47: =+Report!Q47 -> 500 | F47: =+Report!T47 -> 256.71
A49: Total Transport Costs | D49: =SUM(C45:C47) -> 500 | G49: =SUM(F45:F47) -> 814.34
A52: Supplies and Services
A53: Teaching Materials | C53: =+Report!Q53 -> 15000 | F53: =+Report!T53 -> 9327.58
A54: Equipment, Furniture, Materials & music tuition | C54: =+Report!Q54 -> 3670 | F54: =+Report!T54 -> 4629.75
A55: Library Books & Materials | C55: =+Report!Q55 -> 0 | F55: =+Report!T55 -> 0
A56: Catering Costs | C56: =+Report!Q56 -> 1020 | F56: =+Report!T56 -> 1323.18
...

Sheet Welsh
A5: CYNGOR SIR DINAS A SIR CAERDYDD
A6: CANLYNIAD GWARIANT YSGOLION 2012-2013
A8: Corff Llywodraethu : | C8: =+Report!Q5 -> 0
C11: Cyllideb a Gymeradwywyd gan y Llywodraethwyr | F11: Gwariant Cyflawnedig
C13: £ | D13: £ | F13: £ | G13: £
A14: Costau Staff
A15: Costau Addysgu | C15: =+Report!Q11 -> 579412 | F15: =+Report!T11 -> 580350.16
A16: Athrawon Anghenion Arbennig | C16: =+Report!Q12 -> 0 | F16: =+Report!T12 -> 0
A17: Athrawon ar gyfer disgyblion sy'n destun datganiad | C17: =+Report!Q13 -> 0 | F17: =+Report!T13 -> 0
A18: Llanw Byr Dymor | C18: =+Report!Q14 -> 0 | F18: =+Report!T14 -> 0
A19: Llanw Hir Dymor | C19: =+Report!Q15 -> 18354 | F19: =+Report!T15 -> 20091.43
A20: Staff Cymorth Anghenion Arbennig | C20: =+Report!Q16 -> 0 | F20: =+Report!T16 -> 0
A21: Cynorthwywyr Meithrinfa/ Cymhorthion Athrawon / Cynorthwywyr | C21: =+Report!Q17 -> 110413 | F21: =+Report!T17 -> 110374.68
A22: Cynorthwywyr Ieithoedd Tramor | C22: =+Report!Q18 -> 0 | F22: =+Report!T18 -> 0
A23: Technegwyr | C23: =+Report!Q19 -> 0 | F23: =+Report!T19 -> 0
A24: Gorychwylwyr Canol Dydd | C24: =+Report!Q20 -> 10251 | F24: =+Report!T20 -> 10384.95
A25: Staff Llyfrgell / Swyddog Presenoldeb | C25: =+Report!Q21 -> 0 | F25: =+Report!T21 -> 0
A26: Staff Gweinyddol | C26: =+Report!Q22 -> 36324 | F26: =+Report!T22 -> 36833.98
... A30: Rheoli Perfformiad | C30: =+Report!Q26 -> 0 | F30: =+Report!T26 -> 0
A32: Cyfanswm Costau Staff | D32: =SUM(C15:C30) -> 937602 | G32: =SUM(F15:F30) -> 908816.47
A35: Costau Eiddo
A36: Staff Gofalwyr | C36: =+Report!Q32 -> 23986 | F36: =+Report!T32 -> 25701.54
A37: Staff Domestig | C37: =+Report!Q33 -> 9415 | F37: =+Report!T33 -> 9597.02
A38: Staff y Tir | C38: =+Report!Q34 -> 515 | F38: =+Report!T34 -> 510
A39: Costau Glanhau | C39: =+Report!Q35 -> 28342 | F39: =+Report!T35 -> 27529.13
A40: Costau Ynni | C40: =+Report!Q36 -> 33652 | F40: =+Report!T36 -> 28097.78
A41: Cyfraddau | C41: =+Report!Q37 -> 20062.5 | F41: =+Report!T37 -> 20062.5
A42: Atgyweiriau a Chynhaliaeth | C42: =+Report!Q38 -> 10184 | F42: =+Report!T38 -> 15839.75
A43: Dŵr | C43: =+Report!Q39 -> 2680 | F43: =+Report!T39 -> 2204.22
A45: Cyfanswm Costau Eiddo | D45: =SUM(C36:C44) -> 128836.5 | G45: =SUM(F36:F44) -> 129541.94
A47: Costau Cludiant
A48: Costau Cludiant Disgyblion | C48: =+Report!Q45 -> 0 | F48: =+Report!T45 -> 557.63
A49: Costau Cludiant Staff | C49: =+Report!Q46 -> 0 | F49: =+Report!T46 -> 0
A50: Costau Cerbydau | C50: =+Report!Q47 -> 500 | F50: =+Report!T47 -> 256.71
A52: Cyfanswm Costau Cludiant | D52: =SUM(C48:C51) -> 500 | G52: =SUM(F48:F51) -> 814.34
A54: Cyflenwadau a Gwasanaethau
A55: Adnoddau Addysgu | C55: =+Report!Q53 -> 15000 | F55: =+Report!T53 -> 9327.58
A56: Offer, Dodrefn, Deunyddiau a hyfforddiant cerddoriaeth | C56: =+Report!Q54 -> 3670 | F56: =+Report!T54 -> 4629.75
A57: Llyfrau a Deunyddiau Llyfrgell | C57: =+Report!Q55 -> 0 | F57: =+Report!T55 -> 0
A58: Costau Arlwyo | C58: =+Report!Q56 -> 1020 | F58: =+Report!T56 -> 1323.18
...

Sheet Eng WAG Grant Bal
C2: CITY AND COUNTY OF CARDIFF COUNCIL
C3: SCHOOLS OUTTURN OF EXPENDITURE 2008-2009
D5: Governing Body of | E5: =+Report!Q5 -> 0
E7: Governor Approved Budget | H7: Actual Expenditure
E8: £ | F8: £ | H8: £ | I8: £
C9: Staffing costs
C10: Teaching Costs | E10: =+Report!Q11 -> 579412 | H10: =+Report!T11 -> 580350.16
C11: Special Needs Teachers | E11: =+Report!Q12 -> 0 | H11: =+Report!T12 -> 0
C12: Teachers for statemented pupils | E12: =+Report!Q13 -> 0 | H12: =+Report!T13 -> 0
C13: Short Term Supply | E13: =+Report!Q14 -> 0 | H13: =+Report!T14 -> 0
C14: Long Term Supply | E14: =+Report!Q15 -> 18354 | H14: =+Report!T15 -> 20091.43
C15: Special Needs Support Staff | E15: =+Report!Q16 -> 0 | H15: =+Report!T16 -> 0
C16: Nursery Assts/ Teachers Aides / Adult Helpers | E16: =+Report!Q17 -> 110413 | H16: =+Report!T17 -> 110374.68
C17: Foreign Language Assistants | E17: =+Report!Q18 -> 0 | H17: =+Report!T18 -> 0
C18: Technicians | E18: =+Report!Q19 -> 0 | H18: =+Report!T19 -> 0
C19: Mid Day Supervisors | E19: =+Report!Q20 -> 10251 | H19: =+Report!T20 -> 10384.95
C20: Library Staff | E20: =+Report!Q21 -> 0 | H20: =+Report!T21 -> 0
C21: Administrative Staff | E21: =+Report!Q22 -> 36324 | H21: =+Report!T22 -> 36833.98
... C25: Performance Management | E25: =+Report!Q26 -> 0 | H25: =+Report!T26 -> 0
C27: Total Staffing Costs | F27: =SUM(E10:E25) -> 937602 | I27: =SUM(H10:H25) -> 908816.47
C29: Premises Related Costs
C30: Caretaking Staff | E30: =+Report!Q32 -> 23986 | H30: =+Report!T32 -> 25701.54
C31: Domestic Staff | E31: =+Report!Q33 -> 9415 | H31: =+Report!T33 -> 9597.02
C32: Grounds Staff | E32: =+Report!Q34 -> 515 | H32: =+Report!T34 -> 510
C33: Cleaning Costs | E33: =+Report!Q35 -> 28342 | H33: =+Report!T35 -> 27529.13
C34: Energy Costs | E34: =+Report!Q36 -> 33652 | H34: =+Report!T36 -> 28097.78
C35: Rates | E35: =+Report!Q37 -> 20062.5 | H35: =+Report!T37 -> 20062.5
C36: Repairs and Maintenance | E36: =+Report!Q38 -> 10184 | H36: =+Report!T38 -> 15839.75
C37: Water | E37: =+Report!Q39 -> 2680 | H37: =+Report!T39 -> 2204.22
C39: Total Premises Related Costs | F39: =SUM(E30:E37) -> 128836.5 | I39: =SUM(H30:H37) -> 129541.94
C41: Transport Costs
C42: Pupil Transport Costs | E42: =+Report!Q45 -> 0 | H42: =+Report!T45 -> 557.63
C43: Staff Transport Costs | E43: =+Report!Q46 -> 0 | H43: =+Report!T46 -> 0
C44: Vehichle Costs | E44: =+Report!Q47 -> 500 | H44: =+Report!T47 -> 256.71
C46: Total Transport Costs | F46: =SUM(E42:E44) -> 500 | I46: =SUM(H42:H44) -> 814.34
C48: Supplies and Services
C49: Teaching Materials | E49: =+Report!Q53 -> 15000 | H49: =+Report!T53 -> 9327.58
C50: Equipment, Furniture, Materials & music tuition | E50: =+Report!Q54 -> 3670 | H50: =+Report!T54 -> 4629.75
C51: Library Books & Materials | E51: =+Report!Q55 -> 0 | H51: =+Report!T55 -> 0
C52: Catering Costs | E52: =+Report!Q56 -> 1020 | H52: =+Report!T56 -> 1323.18
...

Sheet Data
A3: 1 | B3: 2 | C3: 3 | D3: 4 | E3: 5 | F3: 6 | G3: 7 | H3: 8 | I3: 9 | J3: 10 | K3: 11 | L3: 12 | M3: 13 | N3: 14 | O3: 15 | P3: 16 | Q3: 17 | R3: 18 | S3: 19 | T3: 20 | U3: 21 | V3: 22 | W3: 23 | X3: 24 | Y3: 25 | Z3: 26 | AA3: 27 | AB3: 28 | AC3: 29 | AD3: 30 | AE3: 31 | AF3: 32 | AG3: 33 | AH3: 34 | AI3: 35 | AJ3: 36 | AK3: 37 | AL3: 38 | AM3: 39 | AN3: 40 | AO3: 41 | AP3: 42 | AQ3: 43 | AR3: 44 | AS3: 45 | AT3: 46 | AU3: 47 | AV3: 48 | AW3: 49 | AX3: 50 | AY3: 51 | AZ3: 52 | BA3: 53 | BB3: 54 | BC3: 55 | BD3: 56 | BE3: 57 | BF3: 58 | BG3: 59 | BH3: 60 | BI3: 61 | BJ3: 62 | BK3: 63 | BL3: 64 | BM3: 65 | BN3: 66 | BO3: 67 | BP3: 68 | BQ3: 69 | BR3: 70 | BS3: 71 | BT3: 72 | BU3: 73 | BV3: 74 | BW3: 75 | BX3: 76 | BY3: 77 | BZ3: 78 | CA3: 79 | CB3: 80 | CC3: 81 | CD3: 82 | CE3: 83 | CF3: 84 | CG3: 85 | CH3: 86 | CI3: 87 | CJ3: 88 | CK3: 89 | CL3: 90 | CM3: 91 | CN3: 92 | CO3: 93 | CP3: 94 | CQ3: 95 | CR3: 96 | CS3: 97 | CT3: 98 | CU3: 99 | CV3: 100 | CW3: 101 | CX3: 102 | CY3: 103 | CZ3: 104 | DA3: 105 | DB3: 106 | DC3: 107 | DD3: 108 | DE3: 109 | DF3: 110 | DG3: 111 | DH3: 112 | DI3: 113 | DJ3: 114 | DK3: 115 | DL3: 116 | DM3: 117 | DN3: 118 | DO3: 119 | DP3: 120 | DQ3: 121 | DR3: 122 | DS3: 123 | DT3: 124 | DU3: 125 | DV3: 126 | DW3: 127 | DX3: 128 | DY3: 129 | DZ3: 130 | EA3: 131 | EB3: 132 | EC3: 133 | ED3: 134 | EE3: 135 | EF3: 136 | EG3: 137 | EH3: 138 | EI3: 139 | EJ3: 140 | EK3: 141 | EL3: 142 | EM3: 143 | EN3: 144 | EO3: 145 | EP3: 146 | EQ3: 147 | ER3: 148 | ES3: 149 | ET3: 150 | EU3: 151 | EV3: 152 | EW3: 153 | EX3: 154 | EY3: 155 | EZ3: 156 | FA3: 157 | FB3: 158 | FC3: 159 | FD3: 160 | FE3: 161 | FF3: 162 | FG3: 163 | FH3: 164 | FI3: 165 | FJ3: 166 | FK3: 167 | FL3: 168 | FM3: 169 | FN3: 170 | FO3: 171 | FP3: 172 | FQ3: 173 | FR3: 174 | FS3: 175 | FT3: 176 | FU3: 177 | FV3: 178 | FW3: 179 | FX3: 180 | FY3: 181 | FZ3: 182 | GA3: 183 | GB3: 184 | GC3: 185 | GD3: 186
C5: Teaching Costs | D5: Special Needs Teachers | E5: Teachers for statemented pupils | F5: Short Term Supply | G5: Long Term Supply | H5: Special Needs Support Staff | I5: Nursery Assts/ Teachers Aides / Adult Helpers | J5: Foreign Language Assistants | K5: Technicians | L5: Mid Day Supervisors | M5: Library Staff/ Attend Officer | N5: Administrative Staff | O5: Non teaching supply costs | P5: Training Costs | Q5: Other Staff Costs | R5: Performance Management | S5: Caretaking Staff | T5: Domestic Staff | U5: Grounds Staff | V5: Cleaning Costs | W5: Energy Costs | X5: Rates | Y5: Repairs and Maintenance | Z5: Water | AA5: Pupil Transport Costs | AB5: Staff Transport Costs | AC5: Vehichle Costs | AD5: Teaching Materials | AE5: Equipment Furniture & Materials | AF5: Library Books & Materials | AG5: Catering Costs | AH5: Savings to be found | AI5: Communications Equipment and Services | AJ5: Consultants Fees | AK5: Examinations Fees | AL5: Games & School Activities | AM5: Clerk to Governing Body | AN5: Other office costs | AO5: Printing & Stationery | AP5: Pupil Exclusions | AQ5: Subsistence and expenses | AR5: School Meals | AS5: Service Level Agreements | AT5: Additional Central Funding | AU5: Community Education | AV5: Donations | AW5: Lettings | AX5: Other Income | AY5: Grant Income | AZ5: Sales | BA5: School Meals Recharge | BB5: Training and Tuition Income | BC5: Income Investmet Interest | BD5: Expenditure School Investments | BE5: Income Investment Withdrawl | BF5: Contribution to Reserves | BG5: Contribution from Reserves | BH5: Income Temporary Loans | BI5: Interest | BJ5: Repayment Temprorary Loans | BK5: Teaching Costs | BL5: Special Needs Teachers | BM5: Teachers for statemented pupils | BN5: Short Term Supply | BO5: Long Term Supply | BP5: Special Needs Support Staff | BQ5: Nursery Assts/ Teachers Aides / Adult Helpers | BR5: Foreign Language Assistants | BS5: Technicians | BT5: Mid Day Supervisors | BU5: Library Staff | BV5: Administrative Staff | BW5: Non teaching supply costs | BX5: Training Costs | BY5: Other Staff Costs | BZ5: Performance Management | CA5: Caretaking Staff | CB5: Domestic Staff | CC5: Grounds Staff | CD5: Cleaning Costs | CE5: Energy Costs | CF5: Rates | CG5: Reapirs and Maintenance | CH5: Water | CI5: Pupil Transport Costs | CJ5: Staff Transport Costs | CK5: Vehichle Costs | CL5: Teaching Materials | CM5: Equipment Furniture & Materials | CN5: Library Books & Materials | CO5: Catering Costs | CP5: Savings to be found | CQ5: Communications Equipment and Services | CR5: Consultants Fees | CS5: Examinations Fees | CT5: Games & School Activities | CU5: Clerk to Governing Body | CV5: Other office costs | CW5: Printing & Stationery | CX5: Pupil Exclusions | CY5: Subsistence and expenses | CZ5: School Meals | DA5: Service Level Agreements | DB5: Additional Central Funding | DC5: Community Education | DD5: Donations | DE5: Lettings | DF5: Other Income | DG5: Rental Income | DH5: Sales | DI5: School Meals Recharge | DJ5: Training and Tuition Income | DK5: Teaching Costs | DL5: Special Needs Teachers | DM5: Teachers for statemented pupils | DN5: Short Term Supply | DO5: Long Term Supply | DP5: Special Needs Support Staff | DQ5: Nursery Assts/ Teachers Aides / Adult Helpers | DR5: Foreign Language Assistants | DS5: Technicians | DT5: Mid Day Supervisors | DU5: Library Staff | DV5: Administrative Staff | DW5: Non teaching supply costs | DX5: Training Costs | DY5: Other Staff Costs | DZ5: Performance Management | EA5: Caretaking Staff | EB5: Domestic Staff | EC5: Grounds Staff | ED5: Cleaning Costs | EE5: Energy Costs | EF5: Rates | EG5: Repairs and Maintenance | EH5: Water | EI5: Pupil Transport Costs | EJ5: Staff Transport Costs | EK5: Vehichle Costs | EL5: Teaching Materials | EM5: Equipment Furniture & Materials | EN5: Library Books & Materials | EO5: Catering Costs | EP5: Savings to be found | EQ5: Communications Equipment and Services | ER5: Consultants Fees | ES5: Examinations Fees | ET5: Games & School Activities | EU5: Clerk to Governing Body | EV5: Other office costs | EW5: Printing & Stationery | EX5: Pupil Exclusions | EY5: Subsistence and expenses | EZ5: School Meals | FA5: Service Level Agreements | FB5: Additional Central Funding | FC5: Community Education | FD5: Donations | FE5: Lettings | FF5: Other Income | FG5: Grant Income | FH5: Sales | FI5: School Meals Recharge | FJ5: Training and Tuition Income | FK5: Income Investmet Interest | FL5: Expenditure School Investments | FM5: Income Investment Withdrawl | FN5: School Deficit | FO5: Income Temporary Loans | FP5: Interest | FQ5: Repayment Temprorary Loans | FR5: Total Balances 2022 23 | FS5: Invested Balances 2022 23 | FT5: Uninvested Balances 2022 23 | FU5: Bal Adj | FV5: Total Balances 2023 24 | FW5: Invested Balances 2023 24 | FX5: Uninvested Balances 2023 24 | FY5: Change in Temporary Loans | FZ5: Opening Balance Loans | GA5: Closing Balance Loans | GB5: Devolved Budgets | GC5: Formula Budget | GF5: Actuals | GG5: Formula | GH5: Governor
A7: EA001 | B7: Adamsdown Primary School | C7: 1071881.8 | D7: 0 | E7: 0 | F7: 0 | G7: 100269.29 | H7: 65547.35 | I7: 336267.59 | J7: 0 | K7: 0 | L7: 23685.73 | M7: 0 | N7: 65789.87 | O7: 0 | P7: 48691.28 | Q7: 268862.97 | R7: 0 | S7: 31693.57 | T7: 13299.62 | U7: 2368.44 | V7: 54379.22 | W7: 48844.12 | X7: 47347.5 | Y7: 26265.66 | Z7: 9369.19 | AA7: 5759 | AB7: 0 | AC7: 0 | AD7: 27787.54 | AE7: 905.82 | AF7: 0 | AG7: 2472.08 | AH7: 0 | AI7: 4613.71 | AJ7: 0 | AK7: 0 | AL7: 9384.3 | AM7: 1163.72 | AN7: 7044.9 | AO7: 44699.66 | AP7: 0 | AQ7: 0 | AR7: 0 | AS7: 16445.29 | AT7: -93044.464 | AU7: 0 | AV7: 0 | AW7: 0 | AX7: -4667.5 | AY7: -615132.9 | AZ7: 0 | BA7: 0 | BB7: -6217.11 | BC7: 0 | BD7: 0 | BE7: 0 | BF7: -44697.25 | BG7: 0 | BH7: 0 | BI7: 0 | BJ7: 0 | CF7: 47347.5 | CP7: =+GC7-BZ7-CF7 -> 1523732.5 | DK7: 1181321 | DL7: 0 | DM7: 0 | DN7: 0 | DO7: 37884 | DP7: 83836 | DQ7: 336034 | DR7: 0 | DS7: 0 | DT7: 22980 | DU7: 0 | DV7: 63515 | DW7: 0 | DX7: 22931 | DY7: 148937 | DZ7: 0 | EA7: 31062 | EB7: 12828 | EC7: 2375 | ED7: 62500 | EE7: 56500 | EF7: 47347.5 | EG7: 16351 | EH7: 7000 | EI7: 0 | EJ7: 0 | EK7: 0 | EL7: 30000 | EM7: 4110 | EN7: 0 | EO7: 4000 | EP7: -67862.53 | EQ7: 5850 | ER7: 0 | ES7: 0 | ET7: 7000 | EU7: 994 | EV7: 5500 | EW7: 44600 | EX7: 0 | EY7: 0 | EZ7: 0 | FA7: 17173 | FB7: -558433 | FC7: 0 | FD7: 0 | FE7: 0 | FF7: 0 | FG7: 0 | FH7: 0 | FI7: 0 | FJ7: 0 | FK7: 0 | FL7: 0 | FM7: 0 | FN7: 0 | FO7: 0 | FP7: 0 | FQ7: 0 | FR7: -55252.97 | FS7: 0 | FT7: -55252.97 | FU7: 0 | FV7: =+FW7+FX7 -> -10555.72 | FW7: 0 | FX7: -10555.72 | FY7: 0 | FZ7: 0 | GA7: 0 | GB7: 0 | GC7: 1571080 | GD7: =+FW7-FS7 -> 0 | GF7: =SUM(C7:BJ7) -> 1571080 | GG7: 1571080 | GH7: =SUM(DK7:FQ7) -> 1626333 | GI7: =+GC7-GG7 -> 0 | GJ7: EA001 | GK7: Adamsdown Primary School | GL7: 1475260 | GM7: =+GF7-GL7 -> 95820 | GN7: 1516366 | GO7: =+GH7-GN7 -> 109966.97 | GQ7: 1475260 | GR7: =+GF7-GQ7 -> 95820
A8: EA002 | B8: Albany Primary School | C8: 1294008.9 | D8: 0 | E8: 0 | F8: 0 | G8: 48998.15 | H8: 51462.51 | I8: 346102.68 | J8: 0 | K8: 0 | L8: 20438.86 | M8: 0 | N8: 34459.59 | O8: 0 | P8: 7835.26 | Q8: 152512.11 | R8: 0 | S8: 33449.7 | T8: 5351.04 | U8: 0 | V8: 60999.91 | W8: 45602.03 | X8: 23005 | Y8: 21861.33 | Z8: 7516.9 | AA8: 0 | AB8: 0 | AC8: 737.33 | AD8: 39796.99 | AE8: 0 | AF8: 0 | AG8: 2740.58 | AH8: 0 | AI8: 9034.6 | AJ8: 0 | AK8: 0 | AL8: 28737.88 | AM8: 995 | AN8: 2576.05 | AO8: 12091.82 | AP8: 0 | AQ8: 0 | AR8: 0 | AS8: 14412.71 | AT8: -25972.725 | AU8: 0 | AV8: -1635.84 | AW8: 0 | AX8: -1200 | AY8: -504695.45 | AZ8: 0 | BA8: 0 | BB8: -4350 | BC8: 0 | BD8: 0 | BE8: 0 | BF8: 4438.04 | BG8: 0 | BH8: 0 | BI8: -3380.93 | BJ8: 0 | CF8: 23005 | CP8: =+GC8-BZ8-CF8 -> 1704925 | DK8: 1309224 | DL8: 0 | DM8: 0 | DN8: 0 | DO8: 38563 | DP8: 47358 | DQ8: 348564 | DR8: 0 | DS8: 0 | DT8: 19665 | DU8: 0 | DV8: 34075 | DW8: 0 | DX8: 9588 | DY8: 78135 | DZ8: 0 | EA8: 34649 | EB8: 5156 | EC8: 0 | ED8: 65275 | EE8: 48500 | EF8: 23005 | EG8: 28173 | EH8: 10675 | EI8: 0 | EJ8: 0 | EK8: 750 | EL8: 33000 | EM8: 110 | EN8: 0 | EO8: 3000 | EP8: 26277.18 | EQ8: 15000 | ER8: 0 | ES8: 0 | ET8: 30000 | EU8: 994 | EV8: 2580 | EW8: 12400 | EX8: 0 | EY8: 0 | EZ8: 0 | FA8: 15381 | FB8: -436454 | FC8: 0 | FD8: 0 | FE8: 0 | FF8: 0 | FG8: 0 | FH8: 0 | FI8: 0 | FJ8: 0 | FK8: 0 | FL8: 0 | FM8: 0 | FN8: 0 | FO8: 0 | FP8: 0 | FQ8: 0 | FR8: -75713.18 | FS8: 0 | FT8: -75713.18 | FU8: 0 | FV8: =+FW8+FX8 -> -80151.22 | FW8: 0 | FX8: -80151.22 | FY8: 0 | FZ8: 0 | GA8: 0 | GB8: 0 | GC8: 1727930 | GD8: =+FW8-FS8 -> 0 | GF8: =SUM(C8:BJ8) -> 1727930 | GG8: 1727930 | GH8: =SUM(DK8:FQ8) -> 1803643.2 | GI8: =+GC8-GG8 -> 0 | GJ8: EA002 | GK8: Albany Primary School | GL8: 1543560 | GM8: =+GF8-GL8 -> 184370 | GN8: 1661420 | GO8: =+GH8-GN8 -> 142223.18 | GQ8: 1543560 | GR8: =+GF8-GQ8 -> 184370
A9: EA003 | B9: Allensbank Primary School | C9: 699654.56 | D9: 56061.49 | E9: 67366.94 | F9: 0 | G9: 45211.64 | H9: 59568.21 | I9: 156457.45 | J9: 0 | K9: 0 | L9: 29849.02 | M9: 0 | N9: 31585.55 | O9: 0 | P9: 9315.74 | Q9: 202597.78 | R9: 0 | S9: 30963.97 | T9: 13264.56 | U9: 0 | V9: 54451.42 | W9: 59262.64 | X9: 16585 | Y9: 8336.2 | Z9: 4660.81 | AA9: 0 | AB9: 257.39 | AC9: 0 | AD9: 15512.41 | AE9: 0 | AF9: 0 | AG9: 1394.88 | AH9: 0 | AI9: 1245.18 | AJ9: 0 | AK9: 0 | AL9: 0 | AM9: 1097.61 | AN9: 13716.94 | AO9: 5890.18 | AP9: 0 | AQ9: 195 | AR9: 0 | AS9: 13946.06 | AT9: -21026.422 | AU9: 0 | AV9: -4321.16 | AW9: 0 | AX9: -1990 | AY9: -268837.48 | AZ9: 0 | BA9: 0 | BB9: 0 | BC9: 0 | BD9: 0 | BE9: 0 | BF9: -157943.57 | BG9: 0 | BH9: 0 | BI9: 0 | BJ9: 0 | CF9: 16585 | CP9: =+GC9-BZ9-CF9 -> 1127745 | DK9: 702512 | DL9: 55968 | DM9: 67770 | DN9: 0 | DO9: 24107 | DP9: 58692 | DQ9: 147875 | DR9: 0 | DS9: 0 | DT9: 32348 | DU9: 0 | DV9: 33471 | DW9: 0 | DX9: 14999 | DY9: 177836 | DZ9: 0 | EA9: 32705 | EB9: 12623 | EC9: 0 | ED9: 56119 | EE9: 58154 | EF9: 16585 | EG9: 30385 | EH9: 4400 | EI9: 0 | EJ9: 650 | EK9: 0 | EL9: 10000 | EM9: 110 | EN9: 0 | EO9: 1800 | EP9: -274787.64 | EQ9: 2825 | ER9: 0 | ES9: 0 | ET9: 0 | EU9: 1106 | EV9: 6950 | EW9: 5780 | EX9: 0 | EY9: 0 | EZ9: 0 | FA9: 14493 | FB9: -201773 | FC9: 0 | FD9: 0 | FE9: 0 | FF9: 0 | FG9: 0 | FH9: 0 | FI9: 0 | FJ9: 0 | FK9: 0 | FL9: 0 | FM9: 0 | FN9: 0 | FO9: 0 | FP9: 0 | FQ9: 0 | FR9: 50627.64 | FS9: 0 | FT9: 50627.64 | FU9: 0 | FV9: =+FW9+FX9 -> 208571.21 | FW9: 0 | FX9: 208571.21 | FY9: 0 | FZ9: 0 | GA9: 0 | GB9: 0 | GC9: 1144330 | GD9: =+FW9-FS9 -> 0 | GF9: =SUM(C9:BJ9) -> 1144330 | GG9: 1144330 | GH9: =SUM(DK9:FQ9) -> 1093702.4 | GI9: =+GC9-GG9 -> 0 | GJ9: EA003 | GK9: Allensbank Primary School | GL9: 1089295.4 | GM9: =+GF9-GL9 -> 55034.57 | GN9: 1154409 | GO9: =+GH9-GN9 -> -60706.64 | GQ9: 1089295.4 | GR9: =+GF9-GQ9 -> 55034.57
A10: EA004 | B10: All Saints C.W. Primary School | C10: 474950.46 | D10: 0 | E10: 0 | F10: 0 | G10: 19191.54 | H10: 0 | I10: 127761.87 | J10: 0 | K10: 0 | L10: 12670.25 | M10: 0 | N10: 29575.58 | O10: 0 | P10: 3017.66 | Q10: 41236.12 | R10: 0 | S10: 12773.81 | T10: 10151.94 | U10: 1985.25 | V10: 25284.14 | W10: 23999.36 | X10: 0 | Y10: 12234.61 | Z10: 1937.56 | AA10: 0 | AB10: 29.1 | AC10: 0 | AD10: 8687.08 | AE10: 0 | AF10: 0 | AG10: 1809.57 | AH10: 0 | AI10: 2010.76 | AJ10: 0 | AK10: 0 | AL10: 1170 | AM10: 1232.18 | AN10: 6952.35 | AO10: 3981.75 | AP10: 0 | AQ10: 230 | AR10: 0 | AS10: 10910.92 | AT10: -7880.4015 | AU10: 0 | AV10: 0 | AW10: -1500 | AX10: -450 | AY10: -111536.47 | AZ10: 0 | BA10: 0 | BB10: -1250 | BC10: 0 | BD10: 0 | BE10: 0 | BF10: -19486.99 | BG10: 0 | BH10: 0 | BI10: 0 | BJ10: 0 | CF10: 0 | CP10: =+GC10-BZ10-CF10 -> 691680 | DK10: 481453 | DL10: 0 | DM10: 0 | DN10: 0 | DO10: 15779 | DP10: 0 | DQ10: 153671 | DR10: 0 | DS10: 0 | DT10: 12244 | DU10: 0 | DV10: 29057 | DW10: 0 | DX10: 4007 | DY10: 9244 | DZ10: 0 | EA10: 12512 | EB10: 9761 | EC10: 1947 | ED10: 26505 | EE10: 22436 | EF10: 0 | EG10: 16630 | EH10: 2100 | EI10: 0 | EJ10: 0 | EK10: 0 | EL10: 15000 | EM10: 110 | EN10: 0 | EO10: 3000 | EP10: 8230.12 | EQ10: 4402 | ER10: 0 | ES10: 0 | ET10: 4500 | EU10: 1017 | EV10: 10651 | EW10: 4120 | EX10: 0 | EY10: 0 | EZ10: 0 | FA10: 11621 | FB10: -89279 | FC10: 0 | FD10: 0 | FE10: 0 | FF10: 0 | FG10: 0 | FH10: 0 | FI10: 0 | FJ10: 0 | FK10: 0 | FL10: 0 | FM10: 0 | FN10: 0 | FO10: 0 | FP10: 0 | FQ10: 0 | FR10: -79038.12 | FS10: 0 | FT10: -79038.12 | FU10: 0 | FV10: =+FW10+FX10 -> -59551.13 | FW10: 0 | FX10: -59551.13 | FY10: 0 | FZ10: 0 | GA10: 0 | GB10: 0 | GC10: 691680 | GD10: =+FW10-FS10 -> 0 | GF10: =SUM(C10:BJ10) -> 691680 | GG10: 691680 | GH10: =SUM(DK10:FQ10) -> 770718.12 | GI10: =+GC10-GG10 -> 0 | GJ10: EA004 | GK10: All Saints C.W. Primary School | GL10: 672000 | GM10: =+GF10-GL10 -> 19680 | GN10: 706371 | GO10: =+GH10-GN10 -> 64347.12 | GQ10: 672000 | GR10: =+GF10-GQ10 -> 19680
A11: EA005 | B11: Baden Powell Primary School | C11: 978029.16 | D11: 71967.19 | E11: 23134.88 | F11: 0 | G11: 65213.89 | H11: 190845.63 | I11: 319070.61 | J11: 0 | K11: 0 | L11: 19317.26 | M11: 0 | N11: 70883.05 | O11: 0 | P11: 69568.29 | Q11: 137628.5 | R11: 0 | S11: 32610.63 | T11: 13718.05 | U11: 341.86 | V11: 50970.19 | W11: 46179.94 | X11: 23941.25 | Y11: 15228.52 | Z11: 5052.46 | AA11: 73.56 | AB11: 651.4 | AC11: 0 | AD11: 25111.72 | AE11: 0 | AF11: 0 | AG11: 2112.88 | AH11: 0 | AI11: 4735.91 | AJ11: 0 | AK11: 0 | AL11: 2716.17 | AM11: 1328.88 | AN11: 7667.04 | AO11: 9621.78 | AP11: 0 | AQ11: 625.67 | AR11: 0 | AS11: 17527.82 | AT11: -5951.0637 | AU11: 0 | AV11: -999.06 | AW11: 0 | AX11: -26234.02 | AY11: -441672.94 | AZ11: 0 | BA11: 0 | BB11: -4848.69 | BC11: 0 | BD11: 0 | BE11: 0 | BF11: -110268.42 | BG11: 0 | BH11: 0 | BI11: 0 | BJ11: 0 | CF11: 23941.25 | CP11: =+GC11-BZ11-CF11 -> 1591958.8 | DK11: 959239 | DL11: 0 | DM11: 113159 | DN11: 0 | DO11: 39375 | DP11: 231974 | DQ11: 323239 | DR11: 0 | DS11: 0 | DT11: 24658 | DU11: 0 | DV11: 68715 | DW11: 0 | DX11: 9143 | DY11: 60263 | DZ11: 0 | EA11: 32705 | EB11: 11235 | EC11: 2216 | ED11: 56828 | EE11: 43764 | EF11: 23941.25 | EG11: 27161 | EH11: 5683 | EI11: 0 | EJ11: 100 | EK11: 0 | EL11: 30000 | EM11: 3812 | EN11: 0 | EO11: 1260 | EP11: 42820.002 | EQ11: 758 | ER11: 0 | ES11: 0 | ET11: 2000 | EU11: 1500 | EV11: 900 | EW11: 9193 | EX11: 0 | EY11: 0 | EZ11: 0 | FA11: 18039 | FB11: -370651 | FC11: 0 | FD11: 0 | FE11: 0 | FF11: 0 | FG11: 0 | FH11: 0 | FI11: 0 | FJ11: 0 | FK11: 0 | FL11: 0 | FM11: 0 | FN11: 0 | FO11: 0 | FP11: 0 | FQ11: 0 | FR11: -157129.25 | FS11: 0 | FT11: -157129.25 | FU11: 0 | FV11: =+FW11+FX11 -> -46860.83 | FW11: 0 | FX11: -46860.83 | FY11: 0 | FZ11: 0 | GA11: 0 | GB11: 0 | GC11: 1615900 | GD11: =+FW11-FS11 -> 0 | GF11: =SUM(C11:BJ11) -> 1615900 | GG11: 1615900 | GH11: =SUM(DK11:FQ11) -> 1773029.3 | GI11: =+GC11-GG11 -> 0 | GJ11: EA005 | GK11: Baden Powell Primary School | GL11: 1532101.3 | GM11: =+GF11-GL11 -> 83798.66 | GN11: 1621379 | GO11: =+GH11-GN11 -> 151650.25 | GQ11: 1532101.3 | GR11: =+GF11-GQ11 -> 83798.66
A12: EA006 | B12: Birchgrove Primary School | C12: 1015411.2 | D12: 68563.61 | E12: 0 | F12: 11129.75 | G12: 58311.44 | H12: 84269.21 | I12: 343863.88 | J12: 0 | K12: 0 | L12: 16998.87 | M12: 0 | N12: 50913.22 | O12: 0 | P12: 8794.86 | Q12: 37341.98 | R12: 0 | S12: 17449.69 | T12: 11240.78 | U12: 0 | V12: 41921.84 | W12: 43847.16 | X12: 19393.75 | Y12: 6223.75 | Z12: 4687.18 | AA12: 0 | AB12: 0 | AC12: 0 | AD12: 10041.86 | AE12: 325.65 | AF12: 0 | AG12: 0 | AH12: 0 | AI12: 10484.65 | AJ12: 0 | AK12: 0 | AL12: 16488.98 | AM12: 554.16 | AN12: 7687.74 | AO12: 3576.29 | AP12: 0 | AQ12: 65 | AR12: 0 | AS12: 15422.89 | AT12: -49326.677 | AU12: 0 | AV12: -35576.67 | AW12: -6430 | AX12: -13281 | AY12: -301555.36 | AZ12: 0 | BA12: 0 | BB12: -5000 | BC12: -470.87 | BD12: 470.87 | BE12: 0 | BF12: -40269.64 | BG12: 0 | BH12: 0 | BI12: 0 | BJ12: 0 | CF12: 19393.75 | CP12: =+GC12-BZ12-CF12 -> 1434176.2 | DK12: 1024653 | DL12: 68972 | DM12: 0 | DN12: 0 | DO12: 37829 | DP12: 54947 | DQ12: 361422 | DR12: 0 | DS12: 0 | DT12: 24031 | DU12: 0 | DV12: 54584 | DW12: 0 | DX12: 12489 | DY12: 25321 | DZ12: 0 | EA12: 17102 | EB12: 12540 | EC12: 0 | ED12: 44927 | EE12: 46300 | EF12: 19393.75 | EG12: 22636 | EH12: 4725 | EI12: 0 | EJ12: 0 | EK12: 0 | EL12: 12000 | EM12: 554 | EN12: 0 | EO12: 4000 | EP12: 20578.597 | EQ12: 3483 | ER12: 0 | ES12: 0 | ET12: 4000 | EU12: 1013 | EV12: 5200 | EW12: 5250 | EX12: 0 | EY12: 0 | EZ12: 0 | FA12: 17009 | FB12: -201023 | FC12: 0 | FD12: 0 | FE12: -3800 | FF12: 0 | FG12: 0 | FH12: 0 | FI12: 0 | FJ12: -17400 | FK12: 0 | FL12: 0 | FM12: 0 | FN12: 0 | FO12: 0 | FP12: 0 | FQ12: 0 | FR12: -238253.66 | FS12: -9087.31 | FT12: -229166.35 | FU12: 0 | FV12: =+FW12+FX12 -> -198454.89 | FW12: -9558.18 | FX12: -188896.71 | FY12: 0 | FZ12: 0 | GA12: 0 | GB12: 0 | GC12: 1453570 | GD12: =+FW12-FS12 -> -470.87 | GF12: =SUM(C12:BJ12) -> 1453570 | GG12: 1453570 | GH12: =SUM(DK12:FQ12) -> 1682736.3 | GI12: =+GC12-GG12 -> 0 | GJ12: EA006 | GK12: Birchgrove Primary School | GL12: 1336061.1 | GM12: =+GF12-GL12 -> 117508.91 | GN12: 1473546 | GO12: =+GH12-GN12 -> 209190.35 | GQ12: 1336061.1 | GR12: =+GF12-GQ12 -> 117508.91
A13: EA007 | B13: Bishop Childs C.W. Primary School | C13: 597203.76 | D13: 0 | E13: 0 | F13: 0 | G13: 21211.47 | H13: 0 | I13: 185346.35 | J13: 0 | K13: 0 | L13: 29262.2 | M13: 0 | N13: 23496.42 | O13: 0 | P13: 3420.64 | Q13: 70263.42 | R13: 0 | S13: 28380.46 | T13: 13391.66 | U13: 2843.82 | V13: 27266.76 | W13: 28104.96 | X13: 0 | Y13: 20919.96 | Z13: 3889.49 | AA13: 17830.11 | AB13: 0 | AC13: 0 | AD13: 20066.24 | AE13: 6016.85 | AF13: 0 | AG13: 3321.58 | AH13: 0 | AI13: 6944.02 | AJ13: 0 | AK13: 0 | AL13: 2411.18 | AM13: 1171.19 | AN13: 24925.74 | AO13: 6974.21 | AP13: 0 | AQ13: 1367.72 | AR13: 0 | AS13: 12694.82 | AT13: -15171.856 | AU13: 0 | AV13: -13150.06 | AW13: -250 | AX13: -3001.46 | AY13: -176763.17 | AZ13: 0 | BA13: 0 | BB13: -3735 | BC13: 0 | BD13: 0 | BE13: 0 | BF13: -109113.48 | BG13: 0 | BH13: 0 | BI13: 0 | BJ13: 0 | CF13: 0 | CP13: =+GC13-BZ13-CF13 -> 837540 | DK13: 606626 | DL13: 0 | DM13: 0 | DN13: 0 | DO13: 21163 | DP13: 0 | DQ13: 199879 | DR13: 0 | DS13: 0 | DT13: 29669 | DU13: 0 | DV13: 27283 | DW13: 0 | DX13: 7000 | DY13: 35200 | DZ13: 0 | EA13: 27281 | EB13: 12501 | EC13: 2531 | ED13: 29967 | EE13: 36135 | EF13: 0 | EG13: 26618 | EH13: 3066 | EI13: 0 | EJ13: 0 | EK13: 0 | EL13: 30100 | EM13: 12000 | EN13: 0 | EO13: 2258 | EP13: -162931.41 | EQ13: 3843 | ER13: 0 | ES13: 0 | ET13: 4000 | EU13: 2200 | EV13: 11873 | EW13: 7560 | EX13: 0 | EY13: 0 | EZ13: 0 | FA13: 19887 | FB13: -147118 | FC13: 0 | FD13: 0 | FE13: 0 | FF13: 0 | FG13: 0 | FH13: 0 | FI13: 0 | FJ13: 0 | FK13: 0 | FL13: 0 | FM13: 0 | FN13: 0 | FO13: 0 | FP13: 0 | FQ13: 0 | FR13: -11050.59 | FS13: 0 | FT13: -11050.59 | FU13: 0 | FV13: =+FW13+FX13 -> 98062.89 | FW13: 0 | FX13: 98062.89 | FY13: 0 | FZ13: 0 | GA13: 0 | GB13: 0 | GC13: 837540 | GD13: =+FW13-FS13 -> 0 | GF13: =SUM(C13:BJ13) -> 837540 | GG13: 837540 | GH13: =SUM(DK13:FQ13) -> 848590.59 | GI13: =+GC13-GG13 -> 0 | GJ13: EA007 | GK13: Bishop Childs C.W. Primary School | GL13: 739930 | GM13: =+GF13-GL13 -> 97610 | GN13: 783685 | GO13: =+GH13-GN13 -> 64905.59 | GQ13: 739930 | GR13: =+GF13-GQ13 -> 97610
A14: EA008 | B14: Bryn Celyn Primary School | C14: 604325.09 | D14: 0 | E14: 0 | F14: 0 | G14: 76701.14 | H14: 0 | I14: 323758.02 | J14: 0 | K14: 0 | L14: 19528.02 | M14: 0 | N14: 34140.2 | O14: 0 | P14: 3450 | Q14: 53522.96 | R14: 0 | S14: 14659.18 | T14: 9531.85 | U14: 2943.72 | V14: 36686.53 | W14: 23201.19 | X14: 22336.25 | Y14: 11513.55 | Z14: 3312.94 | AA14: 1629 | AB14: 0 | AC14: 1359.68 | AD14: 18574.16 | AE14: -1471.21 | AF14: 0 | AG14: 3927.06 | AH14: 0 | AI14: 9104.12 | AJ14: 0 | AK14: 0 | AL14: 5214.6 | AM14: 1081.21 | AN14: 464 | AO14: 1475.99 | AP14: 0 | AQ14: 130 | AR14: 0 | AS14: 13207.25 | AT14: -63112.603 | AU14: 0 | AV14: -5236.75 | AW14: 0 | AX14: -31759 | AY14: -270590.95 | AZ14: 0 | BA14: 0 | BB14: -495 | BC14: 0 | BD14: 0 | BE14: 0 | BF14: -31662.2 | BG14: 0 | BH14: 0 | BI14: 0 | BJ14: 0 | CF14: 22336.25 | CP14: =+GC14-BZ14-CF14 -> 869113.75 | DK14: 607098 | DL14: 0 | DM14: 0 | DN14: 0 | DO14: 21202 | DP14: 0 | DQ14: 319784 | DR14: 0 | DS14: 0 | DT14: 17853 | DU14: 0 | DV14: 33765 | DW14: 0 | DX14: 4046 | DY14: 23282 | DZ14: 0 | EA14: 13768 | EB14: 9037 | EC14: 1000 | ED14: 36071 | EE14: 28164 | EF14: 22336.25 | EG14: 8441 | EH14: 3442 | EI14: 0 | EJ14: 0 | EK14: 500 | EL14: 14000 | EM14: 110 | EN14: 0 | EO14: 3000 | EP14: -23996.768 | EQ14: 2100 | ER14: 0 | ES14: 0 | ET14: 1000 | EU14: 981 | EV14: 475 | EW14: 2000 | EX14: 0 | EY14: 0 | EZ14: 0 | FA14: 13149 | FB14: -232876 | FC14: 0 | FD14: 0 | FE14: 0 | FF14: 0 | FG14: 0 | FH14: 0 | FI14: 0 | FJ14: 0 | FK14: 0 | FL14: 0 | FM14: 0 | FN14: 0 | FO14: 0 | FP14: 0 | FQ14: 0 | FR14: -38281.482 | FS14: 0 | FT14: -38281.482 | FU14: 0 | FV14: =+FW14+FX14 -> -6619.28 | FW14: 0 | FX14: -6619.28 | FY14: 0 | FZ14: 0 | GA14: 0 | GB14: 0 | GC14: 891450 | GD14: =+FW14-FS14 -> 0 | GF14: =SUM(C14:BJ14) -> 891450 | GG14: 891450 | GH14: =SUM(DK14:FQ14) -> 929731.48 | GI14: =+GC14-GG14 -> 0 | GJ14: EA008 | GK14: Bryn Celyn Primary School | GL14: 847361.25 | GM14: =+GF14-GL14 -> 44088.75 | GN14: 919871 | GO14: =+GH14-GN14 -> 9860.4825 | GQ14: 847361.25 | GR14: =+GF14-GQ14 -> 44088.75
A15: EA009 | B15: Bryn Deri Primary School | C15: 662559.7 | D15: 0 | E15: 0 | F15: 0 | G15: 25482.92 | H15: 95703.75 | I15: 192290.91 | J15: 0 | K15: 0 | L15: 17860.69 | M15: 0 | N15: 34332.27 | O15: 0 | P15: 8948.45 | Q15: 23234.17 | R15: 818.12 | S15: 19180.19 | T15: 15988.52 | U15: 2492.6 | V15: 29348.48 | W15: 27083.01 | X15: 16986.25 | Y15: 11262.95 | Z15: 0 | AA15: 2442 | AB15: 0 | AC15: 0 | AD15: 16041.43 | AE15: 5344.87 | AF15: 0 | AG15: 3264.79 | AH15: 0 | AI15: 1854.25 | AJ15: 0 | AK15: 0 | AL15: 3388.5 | AM15: 2778.62 | AN15: 0 | AO15: 5585.89 | AP15: 0 | AQ15: 0 | AR15: 0 | AS15: 13714.96 | AT15: -13714.233 | AU15: 0 | AV15: -4196 | AW15: -6468.93 | AX15: -3684.56 | AY15: -162231.8 | AZ15: 0 | BA15: 0 | BB15: 0 | BC15: 0 | BD15: 0 | BE15: 0 | BF15: -70872.77 | BG15: 0 | BH15: 0 | BI15: 0 | BJ15: 0 | CF15: 16986.25 | CP15: =+GC15-BZ15-CF15 -> 959833.75 | DK15: 655537 | DL15: 0 | DM15: 0 | DN15: 0 | DO15: 24490 | DP15: 92763 | DQ15: 190221 | DR15: 0 | DS15: 0 | DT15: 16977 | DU15: 0 | DV15: 32580 | DW15: 0 | DX15: 4473 | DY15: 28911 | DZ15: 1980 | EA15: 18349 | EB15: 15723 | EC15: 2242 | ED15: 30930 | EE15: 27898 | EF15: 16986.25 | EG15: 10581 | EH15: 1800 | EI15: 0 | EJ15: 0 | EK15: 0 | EL15: 15000 | EM15: 110 | EN15: 0 | EO15: 3500 | EP15: -64999.49 | EQ15: 5120 | ER15: 0 | ES15: 0 | ET15: 1500 | EU15: 2182 | EV15: 250 | EW15: 7229 | EX15: 0 | EY15: 0 | EZ15: 0 | FA15: 13772 | FB15: -142090 | FC15: 0 | FD15: 0 | FE15: -8850 | FF15: -3500 | FG15: 0 | FH15: 0 | FI15: 0 | FJ15: 0 | FK15: 0 | FL15: 0 | FM15: 0 | FN15: 0 | FO15: 0 | FP15: 0 | FQ15: 0 | FR15: -24844.76 | FS15: 0 | FT15: -24844.76 | FU15: 0 | FV15: =+FW15+FX15 -> 46028.01 | FW15: 0 | FX15: 46028.01 | FY15: 0 | FZ15: 0 | GA15: 0 | GB15: 0 | GC15: 976820 | GD15: =+FW15-FS15 -> 0 | GF15: =SUM(C15:BJ15) -> 976820 | GG15: 976820 | GH15: =SUM(DK15:FQ15) -> 1001664.8 | GI15: =+GC15-GG15 -> 0 | GJ15: EA009 | GK15: Bryn Deri Primary School | GL15: 906770 | GM15: =+GF15-GL15 -> 70050 | GN15: 928567 | GO15: =+GH15-GN15 -> 73097.76 | GQ15: 906770 | GR15: =+GF15-GQ15 -> 70050
A16: EA010 | B16: Bryn Hafod Primary School | C16: 944105.03 | D16: 74565.64 | E16: 127234.5 | F16: 0 | G16: 128838.78 | H16: 155490.03 | I16: 545815.04 | J16: 0 | K16: 0 | L16: 27255.12 | M16: 0.18 | N16: 75197.7 | O16: 0 | P16: 15192.22 | Q16: 192921.2 | R16: 0 | S16: 33479.22 | T16: 18165.69 | U16: 3143.64 | V16: 72511.67 | W16: 53746.08 | X16: 18725 | Y16: 26652.12 | Z16: 10001.39 | AA16: 0 | AB16: 0 | AC16: 20447.08 | AD16: 11087.96 | AE16: 5666.43 | AF16: 0 | AG16: 3993.39 | AH16: 0 | AI16: 2623.73 | AJ16: 0 | AK16: 0 | AL16: 69464.48 | AM16: 775.01 | AN16: 17195.5 | AO16: 5908.02 | AP16: 0 | AQ16: 0 | AR16: 0 | AS16: 15695.08 | AT16: -89606.904 | AU16: 0 | AV16: -89875.8 | AW16: 0 | AX16: -2730 | AY16: -462282.49 | AZ16: 0 | BA16: 0 | BB16: -1850 | BC16: 0 | BD16: 0 | BE16: 0 | BF16: -49871.74 | BG16: 0 | BH16: 0 | BI16: 0 | BJ16: 0 | CF16: 18725 | CP16: =+GC16-BZ16-CF16 -> 1960955 | DK16: 981232 | DL16: 75022 | DM16: 128002 | DN16: 0 | DO16: 52786 | DP16: 129338 | DQ16: 535927 | DR16: 0 | DS16: 0 | DT16: 24092 | DU16: 0 | DV16: 78757 | DW16: 0 | DX16: 20894 | DY16: 193356 | DZ16: 0 | EA16: 32864 | EB16: 17454 | EC16: 3240 | ED16: 69601 | EE16: 57028 | EF16: 18725 | EG16: 33007 | EH16: 6100 | EI16: 0 | EJ16: 0 | EK16: 2000 | EL16: 20000 | EM16: 110 | EN16: 0 | EO16: 3400 | EP16: 14437.91 | EQ16: 4425 | ER16: 0 | ES16: 0 | ET16: 2500 | EU16: 1500 | EV16: 15800 | EW16: 6730 | EX16: 0 | EY16: 0 | EZ16: 0 | FA16: 15791 | FB16: -425676 | FC16: 0 | FD16: 0 | FE16: 0 | FF16: -1000 | FG16: 0 | FH16: 0 | FI16: 0 | FJ16: 0 | FK16: 0 | FL16: 0 | FM16: 0 | FN16: 0 | FO16: 0 | FP16: 0 | FQ16: 0 | FR16: -137762.91 | FS16: 0 | FT16: -137762.91 | FU16: 0 | FV16: =+FW16+FX16 -> -87891.17 | FW16: 0 | FX16: -87891.17 | FY16: 0 | FZ16: 0 | GA16: 0 | GB16: 0 | GC16: 1979680 | GD16: =+FW16-FS16 -> 0 | GF16: =SUM(C16:BJ16) -> 1979680 | GG16: 1979680 | GH16: =SUM(DK16:FQ16) -> 2117442.9 | GI16: =+GC16-GG16 -> 0 | GJ16: EA010 | GK16: Bryn Hafod Primary School | GL16: 1642830 | GM16: =+GF16-GL16 -> 336850 | GN16: 1732027 | GO16: =+GH16-GN16 -> 385415.91 | GQ16: 1642830 | GR16: =+GF16-GQ16 -> 336850
A17: EA014 | B17: Christ The King R.C. Primary School | C17: 606885.03 | D17: 0 | E17: 0 | F17: 5047.33 | G17: 24317.89 | H17: 0 | I17: 190663.94 | J17: 0 | K17: 0 | L17: 10922.6 | M17: 0 | N17: 48690.56 | O17: 0 | P17: 6198.42 | Q17: 45471.41 | R17: 841.14 | S17: 33348.81 | T17: 0 | U17: 2510.16 | V17: 18575.42 | W17: 25788.6 | X17: 0 | Y17: 26532.2 | Z17: 3689.04 | AA17: 0 | AB17: 287.08 | AC17: 1061.95 | AD17: 18106.35 | AE17: 1990.03 | AF17: 0 | AG17: 0 | AH17: 0 | AI17: 2259.52 | AJ17: 0 | AK17: 0 | AL17: 13852.42 | AM17: 1102.83 | AN17: 10190.36 | AO17: 2133.39 | AP17: 0 | AQ17: 0 | AR17: 0 | AS17: 12865.23 | AT17: -55261.537 | AU17: 0 | AV17: -21383.67 | AW17: -1950.24 | AX17: -29250 | AY17: -145603.43 | AZ17: 0 | BA17: 0 | BB17: -3750 | BC17: 0 | BD17: 0 | BE17: 0 | BF17: -40442.83 | BG17: 0 | BH17: 0 | BI17: 0 | BJ17: 0 | CF17: 0 | CP17: =+GC17-BZ17-CF17 -> 815690 | DK17: 638802 | DL17: 0 | DM17: 0 | DN17: 2640 | DO17: 18777 | DP17: 0 | DQ17: 192953 | DR17: 0 | DS17: 0 | DT17: 10230 | DU17: 0 | DV17: 47809 | DW17: 0 | DX17: 4473 | DY17: 64532 | DZ17: 0 | EA17: 32705 | EB17: 0 | EC17: 2596 | ED17: 19795 | EE17: 28338 | EF17: 0 | EG17: 10957 | EH17: 5051 | EI17: 0 | EJ17: 0 | EK17: 540 | EL17: 12096 | EM17: 2762 | EN17: 0 | EO17: 0 | EP17: -50415.62 | EQ17: 5778 | ER17: 0 | ES17: 0 | ET17: 1000 | EU17: 1231 | EV17: 9370 | EW17: 4167 | EX17: 0 | EY17: 0 | EZ17: 0 | FA17: 13824 | FB17: -116907 | FC17: 0 | FD17: 0 | FE17: -6000 | FF17: -64055 | FG17: 0 | FH17: 0 | FI17: 0 | FJ17: 0 | FK17: 0 | FL17: 0 | FM17: 0 | FN17: 0 | FO17: 0 | FP17: 0 | FQ17: 0 | FR17: -77358.38 | FS17: 0 | FT17: -77358.38 | FU17: 0 | FV17: =+FW17+FX17 -> -36915.55 | FW17: 0 | FX17: -36915.55 | FY17: 0 | FZ17: 0 | GA17: 0 | GB17: 0 | GC17: 815690 | GD17: =+FW17-FS17 -> 0 | GF17: =SUM(C17:BJ17) -> 815690 | GG17: 815690 | GH17: =SUM(DK17:FQ17) -> 893048.38 | GI17: =+GC17-GG17 -> 0 | GJ17: EA014 | GK17: Christ The King R.C. Primary School | GL17: 731660 | GM17: =+GF17-GL17 -> 84030 | GN17: 775272 | GO17: =+GH17-GN17 -> 117776.38 | GQ17: 731660 | GR17: =+GF17-GQ17 -> 84030
A18: EA015 | B18: Coed Glas Primary School | C18: 1543736.1 | D18: 0 | E18: 141965.74 | F18: 39.73 | G18: 92030.7 | H18: 483405.05 | I18: 452725.98 | J18: 0 | K18: 0 | L18: 34131.68 | M18: 0 | N18: 69125.16 | O18: 0 | P18: 2924.4 | Q18: 123562.78 | R18: 0 | S18: 39804.48 | T18: 17667.62 | U18: 4623 | V18: 63783.26 | W18: 61617.04 | X18: 31030 | Y18: 11212.63 | Z18: 9942.38 | AA18: 0 | AB18: 0 | AC18: 1352.43 | AD18: 22731.92 | AE18: 3042 | AF18: 0 | AG18: 4357.57 | AH18: 0 | AI18: 5994.6 | AJ18: 0 | AK18: 0 | AL18: 15954.5 | AM18: 1899.99 | AN18: 6897.78 | AO18: 5213.34 | AP18: 0 | AQ18: 0 | AR18: 0 | AS18: 20471.36 | AT18: -97215.634 | AU18: 0 | AV18: -13190.1 | AW18: -10806.25 | AX18: -38896.12 | AY18: -523950.05 | AZ18: 0 | BA18: 0 | BB18: -4414.48 | BC18: 0 | BD18: 0 | BE18: 0 | BF18: -241850.61 | BG18: 0 | BH18: 0 | BI18: 0 | BJ18: 0 | CF18: 31030 | CP18: =+GC18-BZ18-CF18 -> 2309890 | DK18: 1489955 | DL18: 0 | DM18: 142900 | DN18: 0 | DO18: 68648 | DP18: 410705 | DQ18: 491306 | DR18: 0 | DS18: 0 | DT18: 30145 | DU18: 0 | DV18: 67427 | DW18: 0 | DX18: 7500 | DY18: 31315 | DZ18: 0 | EA18: 35619 | EB18: 18813 | EC18: 5500 | ED18: 58983 | EE18: 56869 | EF18: 31030 | EG18: 23760 | EH18: 8774 | EI18: 0 | EJ18: 0 | EK18: 600 | EL18: 30000 | EM18: 5170 | EN18: 0 | EO18: 5793 | EP18: -158027.88 | EQ18: 2086 | ER18: 0 | ES18: 0 | ET18: 0 | EU18: 2090 | EV18: 8153 | EW18: 7693 | EX18: 0 | EY18: 0 | EZ18: 0 | FA18: 20077 | FB18: -456422 | FC18: 0 | FD18: 0 | FE18: -15800 | FF18: -4547 | FG18: 0 | FH18: 0 | FI18: 0 | FJ18: -22350 | FK18: 0 | FL18: 0 | FM18: 0 | FN18: 0 | FO18: 0 | FP18: 0 | FQ18: 0 | FR18: -62844.12 | FS18: 0 | FT18: -62844.12 | FU18: 0 | FV18: =+FW18+FX18 -> 179006.49 | FW18: 0 | FX18: 179006.49 | FY18: 0 | FZ18: 0 | GA18: 0 | GB18: 0 | GC18: 2340920 | GD18: =+FW18-FS18 -> 0 | GF18: =SUM(C18:BJ18) -> 2340920 | GG18: 2340920 | GH18: =SUM(DK18:FQ18) -> 2403764.1 | GI18: =+GC18-GG18 -> 0 | GJ18: EA015 | GK18: Coed Glas Primary School | GL18: 2235491.7 | GM18: =+GF18-GL18 -> 105428.26 | GN18: 2382688 | GO18: =+GH18-GN18 -> 21076.12 | GQ18: 2235491.7 | GR18: =+GF18-GQ18 -> 105428.26
... A35: EA040 | B35: Lakeside Primary School | C35: 1260384.6 | D35: 68994.11 | E35: 136617.6 | F35: 0 | G35: 70435.71 | H35: 347598.73 | I35: 262738.58 | J35: 0 | K35: 0 | L35: 43280.89 | M35: 0 | N35: 81438.05 | O35: 0 | P35: 10757.14 | Q35: 175884.88 | R35: 4449.6 | S35: 42191.78 | T35: 0 | U35: 4584.84 | V35: 76181.12 | W35: 68957.59 | X35: 24610 | Y35: 23842.57 | Z35: 18391.21 | AA35: 0 | AB35: 272.91 | AC35: 0 | AD35: 28182.49 | AE35: 5593.3 | AF35: 0 | AG35: 0 | AH35: 0 | AI35: 5601.72 | AJ35: 0 | AK35: 0 | AL35: 28446.94 | AM35: 1441.6 | AN35: 19294.28 | AO35: 9649.97 | AP35: 0 | AQ35: 4165.12 | AR35: 0 | AS35: 16308.48 | AT35: -163105.36 | AU35: 0 | AV35: -28785.01 | AW35: -34491.42 | AX35: -63892.27 | AY35: -308745.14 | AZ35: 0 | BA35: 0 | BB35: -3740 | BC35: 0 | BD35: 0 | BE35: 0 | BF35: -49266.66 | BG35: 0 | BH35: 0 | BI35: 0 | BJ35: 0 | CF35: 24610 | CP35: =+GC35-BZ35-CF35 -> 2163660 | DK35: 1249511 | DL35: 65755 | DM35: 137443 | DN35: 0 | DO35: 57552 | DP35: 352537 | DQ35: 278690 | DR35: 0 | DS35: 0 | DT35: 48021 | DU35: 0 | DV35: 79615 | DW35: 0 | DX35: 9885 | DY35: 103574 | DZ35: 7992 | EA35: 41937 | EB35: 0 | EC35: 4734 | ED35: 81258 | EE35: 100391 | EF35: 24610 | EG35: 51243 | EH35: 10261 | EI35: 0 | EJ35: 540 | EK35: 0 | EL35: 25000 | EM35: 3170 | EN35: 0 | EO35: 0 | EP35: 101.19 | EQ35: 5959 | ER35: 0 | ES35: 0 | ET35: 3000 | EU35: 1502 | EV35: 22450 | EW35: 14700 | EX35: 0 | EY35: 10000 | EZ35: 0 | FA35: 16989 | FB35: -271089 | FC35: 0 | FD35: -5000 | FE35: -26000 | FF35: -107247 | FG35: 0 | FH35: 0 | FI35: 0 | FJ35: 0 | FK35: 0 | FL35: 0 | FM35: 0 | FN35: 0 | FO35: 0 | FP35: 0 | FQ35: 0 | FR35: -210814.19 | FS35: 0 | FT35: -210814.19 | FU35: 0 | FV35: =+FW35+FX35 -> -161547.53 | FW35: 0 | FX35: -161547.53 | FY35: 0 | FZ35: 0 | GA35: 0 | GB35: 0 | GC35: 2188270 | GD35: =+FW35-FS35 -> 0 | GF35: =SUM(C35:BJ35) -> 2188270 | GG35: 2188270 | GH35: =SUM(DK35:FQ35) -> 2399084.2 | GI35: =+GC35-GG35 -> 0 | GJ35: EA040 | GK35: Lakeside Primary School | GL35: 1763940 | GM35: =+GF35-GL35 -> 424330 | GN35: 1946615 | GO35: =+GH35-GN35 -> 452469.19 | GQ35: 1763940 | GR35: =+GF35-GQ35 -> 424330
A36: EA041 | B36: Lansdowne Primary School | C36: 1154639.9 | D36: 0 | E36: 0 | F36: 0 | G36: 88525.48 | H36: 0 | I36: 165604.67 | J36: 0 | K36: 0 | L36: 26101.33 | M36: 0 | N36: 42522.67 | O36: 0 | P36: 45211.08 | Q36: 161656.51 | R36: 0 | S36: 20306.72 | T36: 18825.18 | U36: 0 | V36: 65100.31 | W36: 61785.99 | X36: 25011.25 | Y36: 31747.73 | Z36: 7105.46 | AA36: 90.81 | AB36: 0 | AC36: 11 | AD36: 15899.29 | AE36: 944 | AF36: 0 | AG36: 2323.63 | AH36: 0 | AI36: 4298.38 | AJ36: 0 | AK36: 0 | AL36: 3928.5 | AM36: 0 | AN36: 11549.14 | AO36: 4684.09 | AP36: 0 | AQ36: 437.04 | AR36: 0 | AS36: 17012.2 | AT36: -69242.977 | AU36: 0 | AV36: -3151.1 | AW36: 0 | AX36: -600 | AY36: -407112.16 | AZ36: 0 | BA36: 0 | BB36: -2500 | BC36: 0 | BD36: 0 | BE36: 0 | BF36: -117176.09 | BG36: 0 | BH36: 0 | BI36: 0 | BJ36: 0 | CF36: 25011.25 | CP36: =+GC36-BZ36-CF36 -> 1350528.8 | DK36: 1162878 | DL36: 0 | DM36: 0 | DN36: 0 | DO36: 32947 | DP36: 0 | DQ36: 169850 | DR36: 0 | DS36: 0 | DT36: 24192 | DU36: 0 | DV36: 41385 | DW36: 0 | DX36: 38022 | DY36: 136157 | DZ36: 0 | EA36: 18053 | EB36: 16383 | EC36: 0 | ED36: 67320 | EE36: 122280 | EF36: 25011.25 | EG36: 18330 | EH36: 5865 | EI36: 800 | EJ36: 0 | EK36: 0 | EL36: 12000 | EM36: 2110 | EN36: 0 | EO36: 3200 | EP36: -98571.977 | EQ36: 6610 | ER36: 0 | ES36: 0 | ET36: 2000 | EU36: 1050 | EV36: 2800 | EW36: 10000 | EX36: 0 | EY36: 300 | EZ36: 0 | FA36: 17749 | FB36: -396347 | FC36: 0 | FD36: 0 | FE36: 0 | FF36: 0 | FG36: 0 | FH36: 0 | FI36: 0 | FJ36: 0 | FK36: 0 | FL36: 0 | FM36: 0 | FN36: 0 | FO36: 0 | FP36: 0 | FQ36: 0 | FR36: -66833.273 | FS36: 0 | FT36: -66833.273 | FU36: 0 | FV36: =+FW36+FX36 -> 50342.86 | FW36: 0 | FX36: 50342.86 | FY36: 0 | FZ36: 0 | GA36: 0 | GB36: 0 | GC36: 1375540 | GD36: =+FW36-FS36 -> 0 | GE36: =+FT36-FX36 -> -117176.13 | GF36: =SUM(C36:BJ36) -> 1375540 | GG36: 1375540 | GH36: =SUM(DK36:FQ36) -> 1442373.3 | GI36: =+GC36-GG36 -> 0 | GJ36: EA041 | GK36: Lansdowne Primary School | GL36: 1523991.4 | GM36: =+GF36-GL36 -> -148451.4 | GN36: 1604938 | GO36: =+GH36-GN36 -> -162564.73 | GQ36: 1523991.4 | GR36: =+GF36-GQ36 -> -148451.4
